BEGIN:VCALENDAR
VERSION:2.0
PRODID:-//Squarespace Inc/Squarespace 6//v6//EN
BEGIN:VEVENT
UID:57fd3bf929687f85b2a09b45@squarespace.com
DTSTAMP:20170327T164605Z
DTSTART:20170425T120000Z
DTEND:20170427T210000Z
SUMMARY:Public Safety WMD Response - Sampling Techniques and Guidelines: LS
 U (PER-222)
GEO:39.859244;-75.014382
LOCATION:Camden County\, NJ
END:VEVENT
END:VCALENDAR
