BEGIN:VCALENDAR
VERSION:2.0
PRODID:-//Squarespace Inc/Squarespace 6//v6//EN
BEGIN:VEVENT
UID:5d66ba41bfbbfb0001de23d5@squarespace.com
DTSTAMP:20190828T173312Z
DTSTART:20190930T120000Z
DTEND:20190930T210000Z
SUMMARY:Radiation Instruments Operations and Employment: CTOS (PER-345 &amp
 \; PER-355)
GEO:40.926276;-74.07701
LOCATION:Hudson County\, NJ
END:VEVENT
END:VCALENDAR
