BEGIN:VCALENDAR
VERSION:2.0
PRODID:-//Squarespace Inc/Squarespace 6//v6//EN
BEGIN:VEVENT
UID:585007786a496329aedf4524@squarespace.com
DTSTAMP:20170214T192731Z
DTSTART:20170316T140000Z
DTEND:20170316T170000Z
SUMMARY:New Jersey’s Current Operating Environment Brief
GEO:39.533338;-74.686882
LOCATION:Atlantic County\, NJ
END:VEVENT
END:VCALENDAR
