BEGIN:VCALENDAR
VERSION:2.0
PRODID:-//Squarespace Inc/Squarespace 6//v6//EN
BEGIN:VEVENT
UID:5d6ea95bc80c840001e6eb2c@squarespace.com
DTSTAMP:20190903T180714Z
DTSTART:20191022T120000Z
DTEND:20191022T210000Z
SUMMARY:School and Campus Preparedness\, Response\, and Recovery to Active 
 Shooter Incidents: LSU (MGT-324C)
GEO:40.794747;-74.264883
LOCATION:Ocean County\, NJ
END:VEVENT
END:VCALENDAR
