BEGIN:VCALENDAR
VERSION:2.0
PRODID:-//Squarespace Inc/Squarespace 6//v6//EN
BEGIN:VEVENT
UID:5d6eac969e9bcc00014fe65f@squarespace.com
DTSTAMP:20190903T181146Z
DTSTART:20191024T120000Z
DTEND:20191024T210000Z
SUMMARY:School and Campus Preparedness\, Response\, and Recovery to Active 
 Shooter Incidents: LSU (MGT-324C)
GEO:40.794747;-74.264883
LOCATION:Middlesex County\, NJ
END:VEVENT
END:VCALENDAR
