BEGIN:VCALENDAR
VERSION:2.0
PRODID:-//Squarespace Inc/Squarespace 6//v6//EN
BEGIN:VEVENT
UID:5d6eac13bc160500015c5fcc@squarespace.com
DTSTAMP:20190903T180906Z
DTSTART:20191023T120000Z
DTEND:20191023T210000Z
SUMMARY:School and Campus Preparedness\, Response\, and Recovery to Active 
 Shooter Incidents: LSU (MGT-324C)
GEO:40.794747;-74.264883
LOCATION:Atlantic County\, NJ
END:VEVENT
END:VCALENDAR
