BEGIN:VCALENDAR
VERSION:2.0
PRODID:-//Squarespace Inc/Squarespace 6//v6//EN
BEGIN:VEVENT
UID:5a67697be4966b0ac3d7d15c@squarespace.com
DTSTAMP:20180328T151558Z
DTSTART:20180425T130000Z
DTEND:20180425T150000Z
SUMMARY:Hostile Vehicle Mitigation Seminar
GEO:39.859244;-75.014382
LOCATION:Warren County\, NJ
END:VEVENT
END:VCALENDAR
