BEGIN:VCALENDAR
VERSION:2.0
PRODID:-//Squarespace Inc/Squarespace 6//v6//EN
BEGIN:VEVENT
UID:5a676a48f9619a21f799995d@squarespace.com
DTSTAMP:20180123T170314Z
DTSTART:20180517T123000Z
DTEND:20180517T143000Z
SUMMARY: Hostile Vehicle Mitigation Seminar
GEO:39.965255;-74.311821
LOCATION:Ocean County\, NJ
END:VEVENT
END:VCALENDAR
