BEGIN:VCALENDAR
VERSION:2.0
PRODID:-//Squarespace Inc/Squarespace 6//v6//EN
BEGIN:VEVENT
UID:58052f0d15d5dbb1ab58447a@squarespace.com
DTSTAMP:20170516T200443Z
DTSTART:20170523T133000Z
DTEND:20170523T153000Z
SUMMARY:Understanding Public Safety Broadband: FirstNet and JerseyNet
GEO:39.486377;-75.025964
LOCATION:Vineland\, NJ\, Vineland\, NJ
END:VEVENT
END:VCALENDAR
