BEGIN:VCALENDAR
VERSION:2.0
PRODID:-//Squarespace Inc/Squarespace 6//v6//EN
BEGIN:VEVENT
UID:5ec58d5a3819f75e3fda4015@squarespace.com
DTSTAMP:20200520T201022Z
DTSTART:20200604T120000Z
DTEND:20200604T210000Z
SUMMARY:Active Shooter Exercise Development Workshop: TEEX  (PRE-100)
GEO:40.058324;-74.405661
LOCATION:VLT\, NJ
END:VEVENT
END:VCALENDAR
