BEGIN:VCALENDAR
VERSION:2.0
PRODID:-//Squarespace Inc/Squarespace 6//v6//EN
BEGIN:VEVENT
UID:5c07eb73032be46f3317611f@squarespace.com
DTSTAMP:20190128T175445Z
DTSTART:20190130T180000Z
DTEND:20190130T200000Z
SUMMARY:NJ Learn Supervisor Training
GEO:39.855849;-74.686882
LOCATION:Atlantic County\, NJ
END:VEVENT
END:VCALENDAR
