BEGIN:VCALENDAR
VERSION:2.0
PRODID:-//Squarespace Inc/Squarespace 6//v6//EN
BEGIN:VEVENT
UID:5c082725758d46115b86a054@squarespace.com
DTSTAMP:20181205T193140Z
DTSTART:20190129T130000Z
DTEND:20190130T220000Z
SUMMARY:Jurisdictional Threat\, Hazard Identification\,  and Risk Assessmen
 t: TEEX (MGT-310)
GEO:39.533338;-74.686882
LOCATION:Passaic County\, NJ
END:VEVENT
END:VCALENDAR
