BEGIN:VCALENDAR
VERSION:2.0
PRODID:-//Squarespace Inc/Squarespace 6//v6//EN
BEGIN:VEVENT
UID:5c0828ceaa4a9912c9b90011@squarespace.com
DTSTAMP:20181205T193743Z
DTSTART:20190312T120000Z
DTEND:20190313T210000Z
SUMMARY:Jurisdictional Threat\, Hazard Identification\,  and Risk Assessmen
 t: TEEX (MGT-310)
GEO:39.105884;-74.827318
LOCATION:Gloucester County\, NJ
END:VEVENT
END:VCALENDAR
