BEGIN:VCALENDAR
VERSION:2.0
PRODID:-//Squarespace Inc/Squarespace 6//v6//EN
BEGIN:VEVENT
UID:5c0827e34d7a9cbfd8674b1b@squarespace.com
DTSTAMP:20181205T193509Z
DTSTART:20190212T130000Z
DTEND:20190213T220000Z
SUMMARY:Jurisdictional Threat\, Hazard Identification\,  and Risk Assessmen
 t: TEEX (MGT-310)
GEO:39.105884;-74.827318
LOCATION:Cape May County\, NJ
END:VEVENT
END:VCALENDAR
