BEGIN:VCALENDAR
VERSION:2.0
PRODID:-//Squarespace Inc/Squarespace 6//v6//EN
BEGIN:VEVENT
UID:5a37eb4de4966b79a0e420f4@squarespace.com
DTSTAMP:20171218T162308Z
DTSTART:20180530T123000Z
DTEND:20180601T203000Z
SUMMARY:Surveillance Detection for Law Enforcement and Security Professiona
 ls: OBP (PER-346)
GEO:40.74532;-74.053513
LOCATION:Ocean County\, NJ
END:VEVENT
END:VCALENDAR
