BEGIN:VCALENDAR
VERSION:2.0
PRODID:-//Squarespace Inc/Squarespace 6//v6//EN
BEGIN:VEVENT
UID:5a37e9d5085229e36d168433@squarespace.com
DTSTAMP:20171218T162150Z
DTSTART:20180227T133000Z
DTEND:20180301T213000Z
SUMMARY:Surveillance Detection for Law Enforcement and Security Professiona
 ls: OBP (PER-346)
GEO:40.74532;-74.053513
LOCATION:Monmouth County\, NJ
END:VEVENT
END:VCALENDAR
