BEGIN:VCALENDAR
VERSION:2.0
PRODID:-//Squarespace Inc/Squarespace 6//v6//EN
BEGIN:VEVENT
UID:5a660aef53450a9f55aea216@squarespace.com
DTSTAMP:20180122T160835Z
DTSTART:20180321T123000Z
DTEND:20180321T203000Z
SUMMARY:Vehicle-Borne Improvised Explosive Device (VBIED) Detection Course: 
 DHS (PER-312)
GEO:40.833604;-74.546328
LOCATION:Morris County\, NJ
END:VEVENT
END:VCALENDAR
