BEGIN:VCALENDAR
VERSION:2.0
PRODID:-//Squarespace Inc/Squarespace 6//v6//EN
BEGIN:VEVENT
UID:5a660cce652deaf6a0809315@squarespace.com
DTSTAMP:20181015T155516Z
DTSTART:20181102T123000Z
DTEND:20181102T203000Z
SUMMARY:Vehicle-Borne Improvised Explosive Device (VBIED) Detection Course: 
 DHS (PER-312)
GEO:40.833604;-74.546328
LOCATION:Burlington County\, NJ
END:VEVENT
END:VCALENDAR
