BEGIN:VCALENDAR
VERSION:2.0
PRODID:-//Squarespace Inc/Squarespace 6//v6//EN
BEGIN:VEVENT
UID:5a467b78ec212d106c1e8857@squarespace.com
DTSTAMP:20180112T141946Z
DTSTART:20180306T130000Z
DTEND:20180308T220000Z
SUMMARY:Introduction to Computer-Aided Management of Emergency Operations (
 CAMEO) Suite: LSU (PER-229)
GEO:40.566951;-74.920877
LOCATION:Hunterdon County\, NJ
END:VEVENT
END:VCALENDAR
