BEGIN:VCALENDAR
VERSION:2.0
PRODID:-//Squarespace Inc/Squarespace 6//v6//EN
BEGIN:VEVENT
UID:5a4d1726e2c483daf9d351ff@squarespace.com
DTSTAMP:20180103T175202Z
DTSTART:20180417T120000Z
DTEND:20180418T210000Z
SUMMARY:Sports and Special Events Incident Management: TEEX & NCS4 (MGT-404
 )
GEO:40.926276;-74.07701
LOCATION:Bergen County\, NJ
END:VEVENT
END:VCALENDAR
