BEGIN:VCALENDAR
VERSION:2.0
PRODID:-//Squarespace Inc/Squarespace 6//v6//EN
BEGIN:VEVENT
UID:5a6616c324a6945cff301189@squarespace.com
DTSTAMP:20180122T165721Z
DTSTART:20180307T130000Z
DTEND:20180307T220000Z
SUMMARY:Homemade Explosives: Awareness\, Recognition\, and Response: NMT (H
 ME) (AWR-313)
GEO:39.710302;-75.107833
LOCATION:Gloucester County\, NJ
END:VEVENT
END:VCALENDAR
