BEGIN:VCALENDAR
VERSION:2.0
PRODID:-//Squarespace Inc/Squarespace 6//v6//EN
BEGIN:VEVENT
UID:5a4bacb6652deab1c6c58296@squarespace.com
DTSTAMP:20180102T160431Z
DTSTART:20180403T120000Z
DTEND:20180403T210000Z
SUMMARY:Site Protection through Observational Techniques: LSU (AWR-219)
GEO:40.302853;-74.733707
LOCATION:Mercer County\, NJ
END:VEVENT
END:VCALENDAR
