BEGIN:VCALENDAR
VERSION:2.0
PRODID:-//Squarespace Inc/Squarespace 6//v6//EN
BEGIN:VEVENT
UID:5a4badc1e2c483236c330a10@squarespace.com
DTSTAMP:20180102T160650Z
DTSTART:20180619T120000Z
DTEND:20180619T200000Z
SUMMARY:Site Protection through Observational Techniques: LSU (AWR-219)
GEO:40.302853;-74.733707
LOCATION:Camden County\, NJ
END:VEVENT
END:VCALENDAR
