BEGIN:VCALENDAR
VERSION:2.0
PRODID:-//Squarespace Inc/Squarespace 6//v6//EN
BEGIN:VEVENT
UID:5a4bae5071c10bd7b3738b31@squarespace.com
DTSTAMP:20181203T145625Z
DTSTART:20181016T120000Z
DTEND:20181016T200000Z
SUMMARY:Site Protection through Observational Techniques: LSU (AWR-219)
GEO:40.302853;-74.733707
LOCATION:Bergen County\, NJ
END:VEVENT
END:VCALENDAR
