BEGIN:VCALENDAR
VERSION:2.0
PRODID:-//Squarespace Inc/Squarespace 6//v6//EN
BEGIN:VEVENT
UID:5a68a918e4966b361d8fa7b8@squarespace.com
DTSTAMP:20180124T155201Z
DTSTART:20180404T120000Z
DTEND:20180405T190000Z
SUMMARY:Law Enforcement Prevention and Deterrence of Terrorist Acts: LSU (A
 WR-122)
GEO:40.302853;-74.733707
LOCATION:Mercer County\, NJ
END:VEVENT
END:VCALENDAR
