BEGIN:VCALENDAR
VERSION:2.0
PRODID:-//Squarespace Inc/Squarespace 6//v6//EN
BEGIN:VEVENT
UID:5a68abcc08522946e6b319a9@squarespace.com
DTSTAMP:20180124T155414Z
DTSTART:20180620T120000Z
DTEND:20180621T190000Z
SUMMARY:Law Enforcement Prevention and Deterrence of Terrorist Acts: LSU (A
 WR-122)
GEO:39.859244;-75.014382
LOCATION:Camden County\, NJ
END:VEVENT
END:VCALENDAR
