BEGIN:VCALENDAR
VERSION:2.0
PRODID:-//Squarespace Inc/Squarespace 6//v6//EN
BEGIN:VEVENT
UID:5a68ac6153450ad2dcd90cdb@squarespace.com
DTSTAMP:20180124T155606Z
DTSTART:20181017T120000Z
DTEND:20181018T190000Z
SUMMARY:Law Enforcement Prevention and Deterrence of Terrorist Acts: LSU (A
 WR-122)
GEO:40.926276;-74.07701
LOCATION:Bergen County\, NJ
END:VEVENT
END:VCALENDAR
