BEGIN:VCALENDAR
VERSION:2.0
PRODID:-//Squarespace Inc/Squarespace 6//v6//EN
BEGIN:VEVENT
UID:56786c61bfe8732cdf976c8c@squarespace.com
DTSTAMP:20161222T164946Z
DTSTART:20170815T123000Z
DTEND:20170817T203000Z
SUMMARY:DHS Surveillance Detection for Law Enforcement and Security Profess
 ionals
GEO:39.533338;-74.686882
LOCATION:Atlantic County\, NJ
END:VEVENT
END:VCALENDAR
