BEGIN:VCALENDAR
VERSION:2.0
PRODID:-//Squarespace Inc/Squarespace 6//v6//EN
BEGIN:VEVENT
UID:56786b06c21b8676eba38bab@squarespace.com
DTSTAMP:20151221T211403Z
DTSTART:20160608T123000Z
DTEND:20160608T203000Z
SUMMARY:DHS IED Counterterrorism Workshop
GEO:40.833604;-74.546328
LOCATION:Morris County\, NJ
END:VEVENT
END:VCALENDAR
