BEGIN:VCALENDAR
VERSION:2.0
PRODID:-//Squarespace Inc/Squarespace 6//v6//EN
BEGIN:VEVENT
UID:574ef0a34d088ee619890936@squarespace.com
DTSTAMP:20160601T180252Z
DTSTART:20160620T120000Z
DTEND:20160625T210000Z
SUMMARY:SANS 408: Windows Forensics Analysis
GEO:40.833604;-74.546328
LOCATION:Morris County\, NJ
END:VEVENT
END:VCALENDAR
