BEGIN:VCALENDAR
VERSION:2.0
PRODID:-//Squarespace Inc/Squarespace 6//v6//EN
BEGIN:VEVENT
UID:573e13869f7266e70b7fc0a7@squarespace.com
DTSTAMP:20160519T193334Z
DTSTART:20160615T120000Z
DTEND:20160615T200000Z
SUMMARY:Security Awareness & Vigilance for Everyone (S.A.V.E.)
GEO:39.855849;-74.686882
LOCATION:Burlington County\, NJ
END:VEVENT
END:VCALENDAR
