BEGIN:VCALENDAR
VERSION:2.0
PRODID:-//Squarespace Inc/Squarespace 6//v6//EN
BEGIN:VEVENT
UID:568d39162399a30df6231560@squarespace.com
DTSTAMP:20160106T155909Z
DTSTART:20160503T120000Z
DTEND:20160503T210000Z
SUMMARY:Leveraging Tools for Conducting Damage Assessments: NDPTC (AWR-319)
GEO:39.533338;-74.686882
LOCATION:Atlantic County\, NJ
END:VEVENT
END:VCALENDAR
