BEGIN:VCALENDAR
VERSION:2.0
PRODID:-//Squarespace Inc/Squarespace 6//v6//EN
BEGIN:VEVENT
UID:5728a296f850821b4eaf8674@squarespace.com
DTSTAMP:20160503T131049Z
DTSTART:20160503T133000Z
DTEND:20160503T143000Z
SUMMARY:Homemade Explosives: Awareness\, Recognition\, and Response: NMT (H
 ME)
GEO:39.855849;-74.686882
LOCATION:Burlinton County NJ
END:VEVENT
END:VCALENDAR
