BEGIN:VCALENDAR
VERSION:2.0
PRODID:-//Squarespace Inc/Squarespace 6//v6//EN
BEGIN:VEVENT
UID:56f2d8fb3c44d877d5953c66@squarespace.com
DTSTAMP:20170213T184409Z
DTSTART:20171108T130000Z
DTEND:20171108T220000Z
SUMMARY:DHS	Vehicle-Borne IED (VBIED) Detection Course (PER-312)
GEO:40.6595;-74.288354
LOCATION:Union County\, NJ
END:VEVENT
END:VCALENDAR
