BEGIN:VCALENDAR
VERSION:2.0
PRODID:-//Squarespace Inc/Squarespace 6//v6//EN
BEGIN:VEVENT
UID:573e1474b654f98766050bee@squarespace.com
DTSTAMP:20160519T193404Z
DTSTART:20160614T120000Z
DTEND:20160614T200000Z
SUMMARY:Security Awareness & Vigilance for Everyone (S.A.V.E.)
GEO:40.794747;-74.264883
LOCATION:Essex County\, NJ
END:VEVENT
END:VCALENDAR
