BEGIN:VCALENDAR
VERSION:2.0
PRODID:-//Squarespace Inc/Squarespace 6//v6//EN
BEGIN:VEVENT
UID:573e231ac2ea51d838c5704a@squarespace.com
DTSTAMP:20160519T205210Z
DTSTART:20160531T120000Z
DTEND:20160601T210000Z
SUMMARY:Disaster Management For Public Services: TEEX (MGT-317)
GEO:40.302853;-74.733707
LOCATION:Mercer County\, NJ
END:VEVENT
END:VCALENDAR
