BEGIN:VCALENDAR
VERSION:2.0
PRODID:-//Squarespace Inc/Squarespace 6//v6//EN
BEGIN:VEVENT
UID:56786a42e0327c120d27175f@squarespace.com
DTSTAMP:20170131T132049Z
DTSTART:20170215T130000Z
DTEND:20170215T220000Z
SUMMARY:DHS Protective Measures Course (PMC)
GEO:40.833604;-74.546328
LOCATION:Morris County\, NJ
END:VEVENT
END:VCALENDAR
