BEGIN:VCALENDAR
VERSION:2.0
PRODID:-//Squarespace Inc/Squarespace 6//v6//EN
BEGIN:VEVENT
UID:568d786905f8e2ada343e364@squarespace.com
DTSTAMP:20160106T203046Z
DTSTART:20160413T120000Z
DTEND:20160413T160000Z
SUMMARY:Understanding and Planning for School Bomb Incidents: NMT (AWR-132)
GEO:40.833604;-74.546328
LOCATION:Morris County\, NJ
END:VEVENT
END:VCALENDAR
