BEGIN:VCALENDAR
VERSION:2.0
PRODID:-//Squarespace Inc/Squarespace 6//v6//EN
BEGIN:VEVENT
UID:568d76a19cadb61c5732391a@squarespace.com
DTSTAMP:20160106T202521Z
DTSTART:20160323T160000Z
DTEND:20160323T210000Z
SUMMARY:Prevention of and Response to Suicide Bombing Incidents: NMT (PER-2
 31)
GEO:40.833604;-74.546328
LOCATION:Morris County\, NJ
END:VEVENT
END:VCALENDAR
