BEGIN:VCALENDAR
VERSION:2.0
PRODID:-//Squarespace Inc/Squarespace 6//v6//EN
BEGIN:VEVENT
UID:568d759edc5cb49c2bd3a74b@squarespace.com
DTSTAMP:20160106T201808Z
DTSTART:20160323T120000Z
DTEND:20160323T160000Z
SUMMARY:Incident Response to Terrorist Bombings: NMT (PER-230)
GEO:40.833604;-74.546328
LOCATION:Morris County\, NJ
END:VEVENT
END:VCALENDAR
