BEGIN:VCALENDAR
VERSION:2.0
PRODID:-//Squarespace Inc/Squarespace 6//v6//EN
BEGIN:VEVENT
UID:567867e70e4c118f24fff59f@squarespace.com
DTSTAMP:20151221T210736Z
DTSTART:20160323T123000Z
DTEND:20160323T203000Z
SUMMARY:DHS Bomb-making Materials Awareness Program (BMAP)
GEO:40.411136;-74.358747
LOCATION:Middlesex County\, NJ
END:VEVENT
END:VCALENDAR
