BEGIN:VCALENDAR
VERSION:2.0
PRODID:-//Squarespace Inc/Squarespace 6//v6//EN
BEGIN:VEVENT
UID:561814eae4b0c93c7bf8aba6@squarespace.com
DTSTAMP:20151009T193539Z
DTSTART:20160203T130000Z
DTEND:20160204T220000Z
SUMMARY:Mass Prophylaxis Preparedness & Planning: TEEX (MGT-319)
GEO:40.411136;-74.358747
LOCATION:Middlesex County\, NJ
END:VEVENT
END:VCALENDAR
