BEGIN:VCALENDAR
VERSION:2.0
PRODID:-//Squarespace Inc/Squarespace 6//v6//EN
BEGIN:VEVENT
UID:56786bb469a91ad6091e903a@squarespace.com
DTSTAMP:20151221T212045Z
DTSTART:20160223T133000Z
DTEND:20160225T213000Z
SUMMARY:DHS Surveillance Detection for Law Enforcement and Security Profess
 ionals
GEO:40.258946;-74.123996
LOCATION:Monmouth County\, NJ
END:VEVENT
END:VCALENDAR
