BEGIN:VCALENDAR
VERSION:2.0
PRODID:-//Squarespace Inc/Squarespace 6//v6//EN
BEGIN:VEVENT
UID:568d37e1a976afe460a8ff1c@squarespace.com
DTSTAMP:20170522T183707Z
DTSTART:20170801T120000Z
DTEND:20170802T210000Z
SUMMARY:Pediatric Disaster Response and Emergency Preparedness: TEEX (MGT-4
 39)
GEO:39.533338;-74.686882
LOCATION:Atlantic County\, NJ
END:VEVENT
END:VCALENDAR
