BEGIN:VCALENDAR
VERSION:2.0
PRODID:-//Squarespace Inc/Squarespace 6//v6//EN
BEGIN:VEVENT
UID:57c87e5e29687fa029daac51@squarespace.com
DTSTAMP:20160901T192154Z
DTSTART:20161116T133000Z
DTEND:20161116T213000Z
SUMMARY:RIA- Domestic Radicalization and Recruitment
GEO:40.258946;-74.123996
LOCATION:Monmouth County
END:VEVENT
END:VCALENDAR
