BEGIN:VCALENDAR
VERSION:2.0
PRODID:-//Squarespace Inc/Squarespace 6//v6//EN
BEGIN:VEVENT
UID:57c87cae59cc68fba7900fac@squarespace.com
DTSTAMP:20160902T175015Z
DTSTART:20161021T123000Z
DTEND:20161021T203000Z
SUMMARY:RIA- Understanding How Groups and Gangs Use the Internet and Social 
 Media
GEO:40.833604;-74.546328
LOCATION:Morris County
END:VEVENT
END:VCALENDAR
