BEGIN:VCALENDAR
VERSION:2.0
PRODID:-//Squarespace Inc/Squarespace 6//v6//EN
BEGIN:VEVENT
UID:556f0704e4b0677012bdc46c@squarespace.com
DTSTAMP:20150605T150942Z
DTSTART:20150616T173000Z
DTEND:20150616T190000Z
SUMMARY:Terrorism Awareness and Prevention (TAP)
GEO:40.201645;-74.6427
LOCATION:Gloucester County\, NJ
END:VEVENT
END:VCALENDAR
