BEGIN:VCALENDAR
VERSION:2.0
PRODID:-//Squarespace Inc/Squarespace 6//v6//EN
BEGIN:VEVENT
UID:55803053e4b0202eb314b521@squarespace.com
DTSTAMP:20150616T145642Z
DTSTART:20150922T120000Z
DTEND:20150923T210000Z
SUMMARY:Public Information in an All Hazards Incident: TEEX (MGT 318)
GEO:40.794747;-74.264883
LOCATION:Essex County\, NJ
END:VEVENT
END:VCALENDAR
