BEGIN:VCALENDAR
VERSION:2.0
PRODID:-//Squarespace Inc/Squarespace 6//v6//EN
BEGIN:VEVENT
UID:557704b6e4b0307eedaa2e33@squarespace.com
DTSTAMP:20150611T132736Z
DTSTART:20150613T140000Z
DTEND:20150613T180000Z
SUMMARY:Public Safety Career Awareness EXPO
GEO:40.219594;-74.76809
LOCATION:Masonic Temple\, 100 Barrack St\, Trenton\, NJ\, 08608\, United St
 ates
END:VEVENT
END:VCALENDAR
