BEGIN:VCALENDAR
VERSION:2.0
PRODID:-//Squarespace Inc/Squarespace 6//v6//EN
BEGIN:VEVENT
UID:55282ac2e4b0c8ab5ac1ca2d@squarespace.com
DTSTAMP:20150418T160119Z
DTSTART:20150513T120000Z
DTEND:20150513T210000Z
SUMMARY:RIA - Developing Strategic Intelligence Products
GEO:40.499939;-74.36932
LOCATION:Middlesex County Police Training Center\, 11 W Patrol Rd\, Edison\
 , NJ\, 08837
END:VEVENT
END:VCALENDAR
